BEGIN:VCALENDAR
PRODID:-//AT Content Types//AT Event//EN
VERSION:2.0
METHOD:PUBLISH
BEGIN:VEVENT
DTSTAMP:20200228T011421Z
CREATED:20140121T221659Z
UID:ATEvent-4434f1ed6056a225dbe47a0098b00e57
LAST-MODIFIED:20140219T002710Z
SUMMARY:Talk to a planner
DTSTART:20140304T213000Z
DTEND:20140304T223000Z
DESCRIPTION:A planner will be available to answer your questions about
  the planning framework at Yeerongpilly train station.\n\nYou can also
  view the plan at the Brisbane City Council South Regional Business Ce
 ntre at 681 Fairfield Road\, Yeerongpilly.
CLASS:PUBLIC
END:VEVENT
END:VCALENDAR
