BEGIN:VCALENDAR
PRODID:-//AT Content Types//AT Event//EN
VERSION:2.0
METHOD:PUBLISH
BEGIN:VEVENT
DTSTAMP:20200228T011417Z
CREATED:20140121T221659Z
UID:ATEvent-6349e0ffc7a36925c1d6174620f47efa
LAST-MODIFIED:20140219T002711Z
SUMMARY:Talk to a planner
DTSTART:20140219T063000Z
DTEND:20140219T080000Z
DESCRIPTION:A planner will be available to answer your questions about
  the planning framework at Yeerongpilly train station.\n\nYou can also
  view the plan at the Brisbane City Council South Regional Business Ce
 ntre at 681 Fairfield Road\, Yeerongpilly.
CLASS:PUBLIC
END:VEVENT
END:VCALENDAR
