BEGIN:VCALENDAR
PRODID:-//AT Content Types//AT Event//EN
VERSION:2.0
METHOD:PUBLISH
BEGIN:VEVENT
DTSTAMP:20210224T071353Z
CREATED:20131220T052418Z
UID:ATEvent-7de32c88e089b328f66254faeeb9ff62
LAST-MODIFIED:20140206T233205Z
SUMMARY:Toondah Harbour information forum - three
DTSTART:20140208T030000Z
DTEND:20140208T050000Z
DESCRIPTION:Date: Saturday 8 February 2014\nTime: 1pm-3pm\nLocation: D
 unwich Community Hall\, Dunwich\, North Stradbroke Island\n\nDrop down
  and talk to a planner about the proposed development scheme for Toond
 ah Harbour Priority Development Area.
CLASS:PUBLIC
END:VEVENT
END:VCALENDAR
