BEGIN:VCALENDAR
PRODID:-//AT Content Types//AT Event//EN
VERSION:2.0
METHOD:PUBLISH
BEGIN:VEVENT
DTSTAMP:20200228T011336Z
CREATED:20131220T052418Z
UID:ATEvent-d6782e0d29d61cbebdc89532561dc7e3
LAST-MODIFIED:20140206T233205Z
SUMMARY:Toondah Harbour information forum - two
DTSTART:20140207T053000Z
DTEND:20140207T073000Z
DESCRIPTION:Date: Friday 7 February 2014\nTime: 3.30pm-5.30pm \nLocati
 on: Island View Cafe\, Toondah Harbour Ferry Terminal \n\nDrop down an
 d talk to a planner about the proposed development scheme for Toondah 
 Harbour Priority Development Area.
CLASS:PUBLIC
END:VEVENT
END:VCALENDAR
