BEGIN:VCALENDAR
PRODID:-//AT Content Types//AT Event//EN
VERSION:2.0
METHOD:PUBLISH
BEGIN:VEVENT
DTSTAMP:20210224T071423Z
CREATED:20140323T232406Z
UID:ATEvent-06d0bcb3828e891ffda00aa314da2983
LAST-MODIFIED:20140401T051021Z
SUMMARY:Meet the planner information session
DTSTART:20140411T230000Z
DTEND:20140412T060000Z
DESCRIPTION:Representatives from the Department of State Development\,
  Infrastructure and Planning will be available to answer any questions
  you may have on Saturday 12 April at the Rainbow Beach Tourist Inform
 ation Centre\, 8 Rainbow Beach Road\, Rainbow Beach.\n\nFor more infor
 mation contact inskip@dsdip.qld.gov.au
CLASS:PUBLIC
END:VEVENT
END:VCALENDAR
